BEGIN:VCALENDAR
VERSION:2.0
PRODID:-//217.160.0.21//NONSGML kigkonsult.se iCalcreator 2.20//
CALSCALE:GREGORIAN
METHOD:PUBLISH
X-WR-TIMEZONE:Europe/Amsterdam
BEGIN:VEVENT
UID:event39@Webseite des Sail & Road Schiffs- und Automodellbauclubs Berlin
  e.V.
DTSTAMP:20260419T132850Z
CATEGORIES:Besondere Veranstaltungen
DESCRIPTION:Großes Schiffsmodelltreffen\nKategorie: Besondere Veranstaltung
 en\nICS-Link: https://www.sailundroad.de/index.php?option=com_jem&view=eve
 nt&id=39:grosses-schiffsmodelltreffen\n
DTSTART;TZID=Europe/Amsterdam:20260712T100000
DTEND;TZID=Europe/Amsterdam:20260712T180000
LOCATION:Modellboothafen im Britzer Garten\,Sangerhauser Weg 1\,12349 Berli
 n\,Germany
SUMMARY:Großes Schiffsmodelltreffen
URL:https://www.sailundroad.de/index.php?option=com_jem&view=event&id=39:gr
 osses-schiffsmodelltreffen
END:VEVENT
BEGIN:VEVENT
UID:event20@Webseite des Sail & Road Schiffs- und Automodellbauclubs Berlin
  e.V.
DTSTAMP:20260419T132850Z
CATEGORIES:Besondere Veranstaltungen
DESCRIPTION:Reservistenfest auf dem Flugplatz Gatow\nKategorie: Besondere V
 eranstaltungen\nICS-Link: https://www.sailundroad.de/index.php?option=com_
 jem&view=event&id=20:flugplatzfest-gatow\n
DTSTART;VALUE=DATE:20260905
DTEND;VALUE=DATE:20260907
LOCATION:Militärhistorisches Museum\,Am Flugplatz Gatow 33\,14089 Berlin\,G
 ermany
SUMMARY:Reservistenfest auf dem Flugplatz Gatow
URL:https://www.sailundroad.de/index.php?option=com_jem&view=event&id=20:fl
 ugplatzfest-gatow
END:VEVENT
BEGIN:VEVENT
UID:event26@Webseite des Sail & Road Schiffs- und Automodellbauclubs Berlin
  e.V.
DTSTAMP:20260419T132850Z
CATEGORIES:Besondere Veranstaltungen
DESCRIPTION:Schöneberger Modellbautage\nKategorie: Besondere Veranstaltunge
 n\nICS-Link: https://www.sailundroad.de/index.php?option=com_jem&view=even
 t&id=26:auto-und-boot-im-jugendkulturzentrum-die-weisse-rose\n
DTSTART;VALUE=DATE:20261017
DTEND;VALUE=DATE:20261019
LOCATION:Die Weiße Rose *Kulturzentrum am Wartburgplatz\,Martin-Luther-Stra
 ße 77\,10825 Berlin\,Germany
SUMMARY:Schöneberger Modellbautage
URL:https://www.sailundroad.de/index.php?option=com_jem&view=event&id=26:au
 to-und-boot-im-jugendkulturzentrum-die-weisse-rose
END:VEVENT
END:VCALENDAR
